BEGIN:VCALENDAR
BEGIN:VEVENT
SUMMARY:Good Grief / Soft Focus: Motion Graphics (Joe Williams)\, Spencer 
 Doran [nycnoise]
DTSTART:20250723T000000Z
DTEND:20250723T010000Z
UID:98844551-caed-46d2-8a1a-676d691d5f02
CREATED:20260420T145136Z
DESCRIPTION:🇵🇸 PACBI +++ 🌀 notaflof work trade\; Good Grief curat
 ed by Drew Litowitz &amp\; friends
LOCATION:light & sound design
END:VEVENT
END:VCALENDAR
