BEGIN:VCALENDAR
BEGIN:VEVENT
SUMMARY:Dance Practice with Judea Lowe & DJ Wawa [nycnoise]
DTSTART:20250724T000000Z
DTEND:20250724T010000Z
UID:2cc0bf36-13bf-4e4e-bf9f-c0c4e815ad15
CREATED:20260420T145200Z
DESCRIPTION:🇵🇸 PACBI +++ 🌀 notaflof work trade // "each session b
 egins with a group instruction on mindful movement &amp\; body awareness"
LOCATION:light & sound design
END:VEVENT
END:VCALENDAR
