BEGIN:VCALENDAR
BEGIN:VEVENT
SUMMARY:A Space for Sound will Present Sounds [nycnoise]
DTSTART:20250731T230000Z
DTEND:20250801T000000Z
UID:3d920f70-5c71-4cac-a015-6ef3fd12d6ac
CREATED:20260420T145202Z
DESCRIPTION:🇵🇸 PACBI +++ 🌀 notaflof work trade
LOCATION:light & sound design
END:VEVENT
END:VCALENDAR
