BEGIN:VCALENDAR
BEGIN:VEVENT
SUMMARY:Allysen Callery\, Nathan O’Flynn-Pruitt\, Garrett Devoe [nycnois
 e]
DTSTART:20250803T200000Z
DTEND:20250803T210000Z
UID:cca15dbf-b8d6-4feb-a74d-6bba27bc5f3a
CREATED:20260420T145504Z
DESCRIPTION:"contemporary folk / songwriter show"
LOCATION:mama tried (787 3rd ave\, brooklyn)
END:VEVENT
END:VCALENDAR
