BEGIN:VCALENDAR
BEGIN:VEVENT
SUMMARY:PLAiD\, Miss Ambivalent (Jeong Lim Yang\, Santiago Leibson\, Kevin
  Shea) [nycnoise]
DTSTART:20250821T230000Z
DTEND:20250822T000000Z
UID:17cf7406-b5ac-40ec-8c09-4f1fe020665f
CREATED:20260420T145147Z
DESCRIPTION:PLAiD: Sun Yoo\, Jonathan Paik\, Marty Kenny\, TBA
LOCATION:mama tried (787 3rd ave\, brooklyn)
END:VEVENT
END:VCALENDAR
