BEGIN:VCALENDAR
BEGIN:VEVENT
SUMMARY:Bouquets: Chris Libutti\, Emma Houton\, Dan Friel\, Jeff Tobias\, 
 Mr. Mike [nycnoise]
DTSTART:20250827T230000Z
DTEND:20250828T000000Z
UID:ddfcbb65-8c7e-4f9d-b964-a1b8ffa8bc97
CREATED:20260420T145317Z
DESCRIPTION:"duets with the BQE" (yes the highway)
LOCATION:mama tried (787 3rd ave\, brooklyn)
END:VEVENT
END:VCALENDAR
