BEGIN:VCALENDAR
BEGIN:VEVENT
SUMMARY:Taleen Kali\, Russian Baths\, Spirits of Leo\, Heaven (DJ) [nycnoi
 se]
DTSTART:20251009T000000Z
DTEND:20251009T010000Z
UID:f5f77197-d4f3-46d1-8546-60713fd8af0a
CREATED:20260420T145458Z
DESCRIPTION:
LOCATION:purgatory (675 central ave\, brooklyn)
END:VEVENT
END:VCALENDAR
