BEGIN:VCALENDAR
BEGIN:VEVENT
SUMMARY:Jeremy Viner (w/ Marta Sánchez\, Drew Gress\, Kate Gentile) [nycn
 oise]
DTSTART:20250726T000000Z
DTEND:20250726T010000Z
UID:60425f95-91f4-4ec5-b8a3-15d20968fb2b
CREATED:20260420T145141Z
DESCRIPTION:
LOCATION:bar bayeux (1066 nostrand ave\, brooklyn)
END:VEVENT
END:VCALENDAR
