BEGIN:VCALENDAR
BEGIN:VEVENT
SUMMARY:Inés Velasco Large Ensemble\, John Hadfield & Ron Blake [nycnoise
 ]
DTSTART:20250807T230000Z
DTEND:20250808T000000Z
UID:9053d5bf-d513-4437-8439-82f207a38d9a
CREATED:20260420T145356Z
DESCRIPTION:
LOCATION:public records' sound room (233 butler st.\, brooklyn)
END:VEVENT
END:VCALENDAR
