BEGIN:VCALENDAR
BEGIN:VEVENT
SUMMARY:International Anthem + Qobuz present: Gregory Uhlmann\, Josh Johns
 on\, Sam Wilkes\, Night #1/2 [nycnoise]
DTSTART:20250808T230000Z
DTEND:20250809T000000Z
UID:486c49dc-8f04-4921-9c94-1993ec61cf64
CREATED:20260420T145332Z
DESCRIPTION:
LOCATION:public records' sound room (233 butler st.\, brooklyn)
END:VEVENT
END:VCALENDAR
