BEGIN:VCALENDAR
BEGIN:VEVENT
SUMMARY:Rob Mazurek & Chad Taylor: Chicago Underground Duo [nycnoise]
DTSTART:20250913T230000Z
DTEND:20250914T000000Z
UID:1d7436e7-7060-4489-871e-ef700a233b93
CREATED:20260420T163318Z
DESCRIPTION:
LOCATION:public records' sound room (233 butler st.\, brooklyn)
END:VEVENT
END:VCALENDAR
