BEGIN:VCALENDAR
BEGIN:VEVENT
SUMMARY:Christina Vantzou & John Also Bennett [nycnoise]
DTSTART:20250905T230000Z
DTEND:20250906T000000Z
UID:1334aad2-a1c9-4b1a-bf84-5b7a7eff3683
CREATED:20260420T163341Z
DESCRIPTION:
LOCATION:public records' sound room (233 butler st.\, brooklyn)
END:VEVENT
END:VCALENDAR
