BEGIN:VCALENDAR
BEGIN:VEVENT
SUMMARY:Ches Smith Clone Row (Record Release)\, Ikue Mori / Tomeka Reid / 
 Craig Taborn\, Brandon Seabrook [nycnoise]
DTSTART:20251005T230000Z
DTEND:20251006T000000Z
UID:3b44f235-e135-47a7-927f-cddd7d569502
CREATED:20260420T145449Z
DESCRIPTION:CSCR w/ Mary Halvorson\, Liberty Ellman\, Nick Dunston
LOCATION:public records' sound room (233 butler st.\, brooklyn)
END:VEVENT
END:VCALENDAR
