BEGIN:VCALENDAR
BEGIN:VEVENT
SUMMARY:gaucimusic presents: Sebastian Sebastian Alexander Johnson / Jose 
 Fernando Solares / Caroline Morton / Josh Mathews\, Stephen Gauci / Adam L
 ane / Kevin Shea\, Patrick Golden / Jim Clouse / Matt Hollenberg [nycnoise
 ]
DTSTART:20250726T223000Z
DTEND:20250726T233000Z
UID:44785cb1-247e-4758-b4cf-d23f83aceaf1
CREATED:20260420T145249Z
DESCRIPTION:
LOCATION:downtown music gallery (13 monroe st.\, manhattan)
END:VEVENT
END:VCALENDAR
