BEGIN:VCALENDAR
BEGIN:VEVENT
SUMMARY:DMG Free Tues: Stephan Crump\, Nick Neuberg\, Darren Johnston / Se
 an Conly / Hamir Atwal\, Ben Goldberg / John Hebert / Michael Coleman / Ha
 mir Atwal [nycnoise]
DTSTART:20250729T223000Z
DTEND:20250729T233000Z
UID:fd5be274-de9d-4905-a3b7-4bf10911bd60
CREATED:20260420T164221Z
DESCRIPTION:
LOCATION:downtown music gallery (13 monroe st.\, manhattan)
END:VEVENT
END:VCALENDAR
