BEGIN:VCALENDAR
BEGIN:VEVENT
SUMMARY:DMG Free Tues: Stan Zenkov / Evan Crane / Yuko Togami\, Takuma Kan
 aiwa / Ayumi Ishito / Caroline Morton / Jonathan Wilson\, Critical Respons
 e (Jason Kao Hwang\, Anders Nilsson\, Michael T.A. Thompson) [nycnoise]
DTSTART:20250805T223000Z
DTEND:20250805T233000Z
UID:d787021a-2582-4001-99a1-485f5ad56dc3
CREATED:20260420T145554Z
DESCRIPTION:
LOCATION:downtown music gallery (13 monroe st.\, manhattan)
END:VEVENT
END:VCALENDAR
