BEGIN:VCALENDAR
BEGIN:VEVENT
SUMMARY:Body Hack: ARCHANGEL\, Bobby Beethoven\, Cisne\, Embaci\, Nana XOX
 O b2b sydfalls\, Trap Selyna [nycnoise]
DTSTART:20250801T000000Z
DTEND:20250801T010000Z
UID:c951b305-56f2-4aa4-9c9d-033595699fab
CREATED:20260420T145210Z
DESCRIPTION:🇵🇸 PACBI (body hack)
LOCATION:nowadays (56-06 cooper ave\, ridgewood)
END:VEVENT
END:VCALENDAR
