BEGIN:VCALENDAR
BEGIN:VEVENT
SUMMARY:Pique-nique & Arce will Present Sounds [nycnoise]
DTSTART:20250724T230000Z
DTEND:20250725T000000Z
UID:7f9f9b91-4bcc-4f02-84aa-e579a18e6472
CREATED:20260420T145214Z
DESCRIPTION:🇵🇸 PACBI +++ 🌀 notaflof work trade
LOCATION:light & sound design
END:VEVENT
END:VCALENDAR
