BEGIN:VCALENDAR
BEGIN:VEVENT
SUMMARY:2nd Best Dance Company: Light Labor [nycnoise]
DTSTART:20250731T230000Z
DTEND:20250801T000000Z
UID:d9dbf752-1047-4b7b-978b-8edbe79498ab
CREATED:20260420T164111Z
DESCRIPTION:Hannah Garner\, Annie Morgan\, Channce Williams
LOCATION:green lung red hook (22 commerce)
END:VEVENT
END:VCALENDAR
