BEGIN:VCALENDAR
BEGIN:VEVENT
SUMMARY:TBA [nycnoise]
DTSTART:20250731T233000Z
DTEND:20250801T003000Z
UID:93e2de2c-06ee-4cbf-8b62-fbf5310a13b8
CREATED:20260420T145145Z
DESCRIPTION:🇵🇸 PACBI +++ lineup asap (submit info)
LOCATION:brothers wash & dry laundromat (5420 nurge ave\, queens)
END:VEVENT
END:VCALENDAR
