BEGIN:VCALENDAR
BEGIN:VEVENT
SUMMARY:Wormhole: Gían Pérez / Marc Edwards / Caroline Morton\, Eyal Mao
 z / Robert Boston / Fima Ephron / Dave Miller\, Stan Zenkov [nycnoise]
DTSTART:20250803T230000Z
DTEND:20250804T000000Z
UID:b444650b-a4f0-460b-a59b-52845a4f67d2
CREATED:20260420T145425Z
DESCRIPTION:🇵🇸 PACBI
LOCATION:brothers wash & dry laundromat (5420 nurge ave\, queens)
END:VEVENT
END:VCALENDAR
