BEGIN:VCALENDAR
BEGIN:VEVENT
SUMMARY:Hidden City DIY Fest: Travess\, Christopher Wolf\, Abrielle Scharf
  [nycnoise]
DTSTART:20250802T180000Z
DTEND:20250802T190000Z
UID:e245ebb1-e0c1-407b-b0f9-faa280f4a827
CREATED:20260420T145249Z
DESCRIPTION:"visit hiddencity.diy for schedule &amp\; tickets"
LOCATION:matt's backyard (191A Halsey St\, Brooklyn\, NY 11216)
END:VEVENT
END:VCALENDAR
