BEGIN:VCALENDAR
BEGIN:VEVENT
SUMMARY:Hidden City DIY Fest: Portal de Leon [nycnoise]
DTSTART:20250808T230000Z
DTEND:20250809T000000Z
UID:8bb1868b-49cb-4777-b632-db067d19e575
CREATED:20260420T145503Z
DESCRIPTION:
LOCATION:castle sky works
END:VEVENT
END:VCALENDAR
