BEGIN:VCALENDAR
BEGIN:VEVENT
SUMMARY:Prospect Series house show #50: Drew Wesely / Eli Wallace / Sam Ne
 wsome\, Bhob Rainey\, Katie Porter [nycnoise]
DTSTART:20250816T000000Z
DTEND:20250816T010000Z
UID:9c89a5b3-5005-41f6-8e02-64f9fc990770
CREATED:20260420T145213Z
DESCRIPTION:7:30pm doors
LOCATION:prospect series apt (1923 8th ave (corner of 20th st.)\, south sl
 ope\, bklyn)
END:VEVENT
END:VCALENDAR
