BEGIN:VCALENDAR
BEGIN:VEVENT
SUMMARY:Francesca H. / Orchid McRae / Gían Pérez\, Marc Edwards & Slipst
 ream Time Travel\, Kwami Winfield [nycnoise]
DTSTART:20250814T230000Z
DTEND:20250815T000000Z
UID:3d3a451a-7b3c-4ea1-8d7e-2f0121385c10
CREATED:20260420T145344Z
DESCRIPTION:
LOCATION:brothers wash & dry laundromat (5420 nurge ave\, queens)
END:VEVENT
END:VCALENDAR
