BEGIN:VCALENDAR
BEGIN:VEVENT
SUMMARY:rally: Loqum\, spliffany evans\, amita [nycnoise]
DTSTART:20250804T000000Z
DTEND:20250804T010000Z
UID:bca594df-acd5-4358-ae1f-9948dd381f55
CREATED:20260420T145425Z
DESCRIPTION:
LOCATION:jupiter disco (1237 flushing ave\, brooklyn)
END:VEVENT
END:VCALENDAR
