BEGIN:VCALENDAR
BEGIN:VEVENT
SUMMARY:i.D-sus\, noface?\, MADRONAS\, Sunziki\, SPECIAL GUESTS [nycnoise]
DTSTART:20250803T000000Z
DTEND:20250803T010000Z
UID:d3dd8d39-00c2-40d8-9a9c-112672007420
CREATED:20260420T145303Z
DESCRIPTION:
LOCATION:nublu classic (62 Loisaida Ave\, New York\, NY 10009)
END:VEVENT
END:VCALENDAR
