BEGIN:VCALENDAR
BEGIN:VEVENT
SUMMARY:The Shape of Jizz to Cum: The New York Review of Cocksucking\, She
 lley Hirsch & Gordon Beeferman [nycnoise]
DTSTART:20250806T000000Z
DTEND:20250806T010000Z
UID:1214190e-0b9b-4f00-b325-5815aba5a590
CREATED:20260420T145552Z
DESCRIPTION:7:30pm doors\, link to&nbsp\;flyer
LOCATION:singers (30 Kosciuszko St\, Brooklyn\, NY 11205)
END:VEVENT
END:VCALENDAR
