BEGIN:VCALENDAR
BEGIN:VEVENT
SUMMARY:A Memorial for Ed Askew [nycnoise]
DTSTART:20250803T160000Z
DTEND:20250803T170000Z
UID:dddcb438-3d0f-49e9-82ee-71da9047a112
CREATED:20260420T145353Z
DESCRIPTION:🇵🇸 PACBI +++ email for info
LOCATION:light & sound design
END:VEVENT
END:VCALENDAR
