BEGIN:VCALENDAR
BEGIN:VEVENT
SUMMARY:Jim Staley Night #1/2 (with Shelley Hirsch\, Ikue Mori\, Nava Dunk
 elman) [nycnoise]
DTSTART:20250808T000000Z
DTEND:20250808T010000Z
UID:a646d5a4-1a18-4e47-80c8-e3c4e695216f
CREATED:20260420T145339Z
DESCRIPTION:7pm / $30 doors
LOCATION:roulette (509 atlantic ave\, brooklyn)
END:VEVENT
END:VCALENDAR
