BEGIN:VCALENDAR
BEGIN:VEVENT
SUMMARY:Jim Staley Night #2/2 (with Ned Rothenberg\, Sylvie Courvoisier) [
 nycnoise]
DTSTART:20250809T000000Z
DTEND:20250809T010000Z
UID:f8b27539-5e30-4475-a582-4a3354595e86
CREATED:20260420T145332Z
DESCRIPTION:7pm / $30 doors
LOCATION:roulette (509 atlantic ave\, brooklyn)
END:VEVENT
END:VCALENDAR
