BEGIN:VCALENDAR
BEGIN:VEVENT
SUMMARY:Tarka Dawat: Acamol\, Dynoman\, Maryam Turkey & Shahzad Ismaily\, 
 Natie\, Rohana\, Zara Dekho (DJ) [nycnoise]
DTSTART:20250823T230000Z
DTEND:20250824T000000Z
UID:2a570dcb-4fbc-41cc-8dff-1cfd7013e967
CREATED:20260420T145447Z
DESCRIPTION:🌀 notaflof work trade\, "&amp\; home made vegetarian biryan
 i"
LOCATION:light & sound design
END:VEVENT
END:VCALENDAR
