BEGIN:VCALENDAR
BEGIN:VEVENT
SUMMARY:Yoshiko Chuma & The School of Hard Knocks: 'All Together Different
  Pop Up\; Do You Remember Beaver Animation?\,' Day #3/3 [nycnoise]
DTSTART:20250804T000000Z
DTEND:20250804T010000Z
UID:c0de1ebf-b7aa-4111-9787-b3c78c5d64a8
CREATED:20260420T145324Z
DESCRIPTION:click thru for specifics\, personnel for the run include Sabin
 e Lola Stock\, Angelina Laguna\, Timothy Buckley\, Hedy Zhou\, Emily Pope\
 , Coco Karol\, Marisa Tornello\, Shoko Nagai\, Hans Young Binter\, Kelly B
 ugden\, Van Wifvat\, Yang Sun\, Wendy Perron\, Sarah Skaggs\, Max Levin\, 
 Jason Hwang\, Frank London\, Miriam Parker
LOCATION:mabou mines (150 First Avenue (Second Floor)\, NYC 10009)
END:VEVENT
END:VCALENDAR
