BEGIN:VCALENDAR
BEGIN:VEVENT
SUMMARY:"CKarn Ing\," Eli Wallace / Kenneth Jimenez / Trae Crudup\, Jeremy
  Viner / Matt Nelson / Aliya Ultan / Tom Rainey\, Kevin Murray [nycnoise]
DTSTART:20250809T233000Z
DTEND:20250810T003000Z
UID:96569474-b294-4e8c-826f-8786c4ad0487
CREATED:20260420T145335Z
DESCRIPTION:🇵🇸 PACBI
LOCATION:record shop (360 van brunt st.\, brooklyn)
END:VEVENT
END:VCALENDAR
