BEGIN:VCALENDAR
BEGIN:VEVENT
SUMMARY:Bicycle Noise: Translucent Old Man\, Kwami Winfield\, Zilmrah\, Bi
 cycle Noise Creation Machine\, DJ LTE [nycnoise]
DTSTART:20250813T230000Z
DTEND:20250814T000000Z
UID:858baf8e-2a1a-44d0-ae71-f6ea887fa8dc
CREATED:20260420T145420Z
DESCRIPTION:
LOCATION:intercomm (584 Woodward Ave\, Ridgewood\, NY 11385)
END:VEVENT
END:VCALENDAR
