BEGIN:VCALENDAR
BEGIN:VEVENT
SUMMARY:STGMA\, False Starts\, Sub Rosa [nycnoise]
DTSTART:20250801T230000Z
DTEND:20250802T000000Z
UID:94de650e-2942-4172-8b77-44a09080edaa
CREATED:20260420T145325Z
DESCRIPTION:🇵🇸 PACBI +++ 6pm doors
LOCATION:p.i.t. (property is theft) (411 s. 5th st.\, brooklyn)
END:VEVENT
END:VCALENDAR
