BEGIN:VCALENDAR
BEGIN:VEVENT
SUMMARY:Outlier Presents: Jessica Pavone\, more TBA [nycnoise]
DTSTART:20250804T000000Z
DTEND:20250804T010000Z
UID:5d0360de-16ad-49ee-9652-e1dff7344ea1
CREATED:20260420T145358Z
DESCRIPTION:🇵🇸 PACBI +++ 7:30pm doors\, lineup asap
LOCATION:p.i.t. (property is theft) (411 s. 5th st.\, brooklyn)
END:VEVENT
END:VCALENDAR
