BEGIN:VCALENDAR
BEGIN:VEVENT
SUMMARY:Los Mocos\, Pippy\, Highlighter Rabies [nycnoise]
DTSTART:20250816T230000Z
DTEND:20250817T000000Z
UID:ecbafdad-a908-4574-9e65-905dec59af80
CREATED:20260420T145334Z
DESCRIPTION:6pm doors
LOCATION:p.i.t. (property is theft) (411 s. 5th st.\, brooklyn)
END:VEVENT
END:VCALENDAR
