BEGIN:VCALENDAR
BEGIN:VEVENT
SUMMARY:Cadenas (Brandon Lopez\, Dennis Sullivan\, Chuck Roth)\, Matt Mora
 n / Lesley Mok / David Leon / Mariel Roberts [nycnoise]
DTSTART:20250817T220000Z
DTEND:20250817T230000Z
UID:168f898d-39c0-42f9-a5b8-060ff1678791
CREATED:20260420T145159Z
DESCRIPTION:i had the wrong time\, it started at 6pm :'( 🅙
LOCATION:p.i.t. (property is theft) (411 s. 5th st.\, brooklyn)
END:VEVENT
END:VCALENDAR
