BEGIN:VCALENDAR
BEGIN:VEVENT
SUMMARY:Unheard-of + The Gowanus Dredgers Present: Christian Quiñones: 'S
 ystem Architecture' [nycnoise]
DTSTART:20250801T233000Z
DTEND:20250802T003000Z
UID:6cb61db5-64ce-4aa2-858a-f9daff78db78
CREATED:20260420T145213Z
DESCRIPTION:7:30pm boat launch\, 8pm music\, 🌀 "free rsvp for land view
 ing"
LOCATION:gowanus dredgers bunker (2 19th St\, Brooklyn\, NY 11232\, United
  States)
END:VEVENT
END:VCALENDAR
