BEGIN:VCALENDAR
BEGIN:VEVENT
SUMMARY:True Love Presents: CPU BUDDHA\, DEATH INSURANCE\, 3RD SPIRIT (MIR
 A x SAFRA)\, STGMA\, CHAINWALLET vs GUIDO [nycnoise]
DTSTART:20250802T230000Z
DTEND:20250803T000000Z
UID:88ce57be-9399-4790-b499-5813cad2fb05
CREATED:20260420T145300Z
DESCRIPTION:🇵🇸 PACBI&nbsp\;(chaos warp / true love)
LOCATION:living gallery (1094 broadway\, brooklyn)
END:VEVENT
END:VCALENDAR
