BEGIN:VCALENDAR
BEGIN:VEVENT
SUMMARY:Just Mustard [nycnoise]
DTSTART:20250909T233000Z
DTEND:20250910T003000Z
UID:aaa990f0-eadb-4c61-9990-bc15a804f797
CREATED:20260420T163232Z
DESCRIPTION:6:30pm doors
LOCATION:national sawdust (80 n. 6th st.\, brooklyn)
END:VEVENT
END:VCALENDAR
