BEGIN:VCALENDAR
BEGIN:VEVENT
SUMMARY:Canine Wedding\, swimteam VHS\, Sam Vana [nycnoise]
DTSTART:20250808T230000Z
DTEND:20250809T000000Z
UID:e17c8155-634e-4efe-b7d6-917529754b0f
CREATED:20260420T145421Z
DESCRIPTION:
LOCATION:brooklyn music kitchen (177 vanderbilt ave\, brooklyn)
END:VEVENT
END:VCALENDAR
