BEGIN:VCALENDAR
BEGIN:VEVENT
SUMMARY:swimteam VHS\, Rosetooth\, Red Pen Death Omen\, Spirit Gvn [nycnoi
 se]
DTSTART:20250821T233000Z
DTEND:20250822T003000Z
UID:bf97ce19-04e3-4e18-9eeb-1660ad2e40a4
CREATED:20260420T145450Z
DESCRIPTION:
LOCATION:gold sounds (44 wilson ave\, brooklyn)
END:VEVENT
END:VCALENDAR
