BEGIN:VCALENDAR
BEGIN:VEVENT
SUMMARY:Hard Nips\, The Doomstompers\, The Cyber Bullies\, Human Ecology F
 und [nycnoise]
DTSTART:20250802T200000Z
DTEND:20250802T210000Z
UID:c4bca4d5-a509-4f1e-a452-9db40203de30
CREATED:20260420T145540Z
DESCRIPTION:
LOCATION:bar freda (801 seneca ave\, ridgewood)
END:VEVENT
END:VCALENDAR
