BEGIN:VCALENDAR
BEGIN:VEVENT
SUMMARY:Pynkie\, Ramona\, Anna Altman\, Shallowhalo [nycnoise]
DTSTART:20250802T233000Z
DTEND:20250803T003000Z
UID:a33ec2e4-93c0-478c-b615-94575e9e07d6
CREATED:20260420T145539Z
DESCRIPTION:
LOCATION:cassette (68-38 forest ave bsmt\, ridgewood)
END:VEVENT
END:VCALENDAR
