BEGIN:VCALENDAR
BEGIN:VEVENT
SUMMARY:An Eve of Solo Sets: Javen Lara\, Matt Bent\, Nocturnal Cellist\, 
 Dark Skin Genius [nycnoise]
DTSTART:20250819T233000Z
DTEND:20250820T003000Z
UID:5029f095-d00c-4f73-946d-9c27e2ddf902
CREATED:20260420T145140Z
DESCRIPTION:NC: Aliya Ultan\; DSG: Adam Turay
LOCATION:cassette (68-38 forest ave bsmt\, ridgewood)
END:VEVENT
END:VCALENDAR
