BEGIN:VCALENDAR
BEGIN:VEVENT
SUMMARY:City Noise\, The Eclectics\, The Projections\, Hidden Wings [nycno
 ise]
DTSTART:20250802T230000Z
DTEND:20250803T000000Z
UID:7d1756ae-3974-4312-b13f-1d383e4d906a
CREATED:20260420T145348Z
DESCRIPTION:
LOCATION:hart bar (538 hart st.\, brooklyn)
END:VEVENT
END:VCALENDAR
