BEGIN:VCALENDAR
BEGIN:VEVENT
SUMMARY:City Ice\, Woodhead\, Ace Bandage [nycnoise]
DTSTART:20250802T200000Z
DTEND:20250802T210000Z
UID:3d0d7919-427e-4421-8993-9074ef757857
CREATED:20260420T145210Z
DESCRIPTION:
LOCATION:mama tried (787 3rd ave\, brooklyn)
END:VEVENT
END:VCALENDAR
