BEGIN:VCALENDAR
BEGIN:VEVENT
SUMMARY:Clifford\, Youbet\, Foyer Red [nycnoise]
DTSTART:20250802T233000Z
DTEND:20250803T003000Z
UID:35ee57ef-a756-4946-89f7-0a93af9f3cdb
CREATED:20260420T145341Z
DESCRIPTION:
LOCATION:union pool (484 union ave\, brooklyn)
END:VEVENT
END:VCALENDAR
